BEGIN:VCALENDAR
VERSION:2.0
PRODID:-//AEDCORO - ECPv6.15.20//NONSGML v1.0//EN
CALSCALE:GREGORIAN
METHOD:PUBLISH
X-WR-CALNAME:AEDCORO
X-ORIGINAL-URL:https://aedcoro.com
X-WR-CALDESC:Eventos para AEDCORO
REFRESH-INTERVAL;VALUE=DURATION:PT1H
X-Robots-Tag:noindex
X-PUBLISHED-TTL:PT1H
BEGIN:VTIMEZONE
TZID:Europe/Madrid
BEGIN:DAYLIGHT
TZOFFSETFROM:+0100
TZOFFSETTO:+0200
TZNAME:CEST
DTSTART:20240331T010000
END:DAYLIGHT
BEGIN:STANDARD
TZOFFSETFROM:+0200
TZOFFSETTO:+0100
TZNAME:CET
DTSTART:20241027T010000
END:STANDARD
BEGIN:DAYLIGHT
TZOFFSETFROM:+0100
TZOFFSETTO:+0200
TZNAME:CEST
DTSTART:20250330T010000
END:DAYLIGHT
BEGIN:STANDARD
TZOFFSETFROM:+0200
TZOFFSETTO:+0100
TZNAME:CET
DTSTART:20251026T010000
END:STANDARD
BEGIN:DAYLIGHT
TZOFFSETFROM:+0100
TZOFFSETTO:+0200
TZNAME:CEST
DTSTART:20260329T010000
END:DAYLIGHT
BEGIN:STANDARD
TZOFFSETFROM:+0200
TZOFFSETTO:+0100
TZNAME:CET
DTSTART:20261025T010000
END:STANDARD
END:VTIMEZONE
BEGIN:VEVENT
DTSTART;VALUE=DATE:20251018
DTEND;VALUE=DATE:20251020
DTSTAMP:20260421T071257
CREATED:20251029T151748Z
LAST-MODIFIED:20260120T115331Z
UID:9601-1760745600-1760918399@aedcoro.com
SUMMARY:XXII Concurso Nacional de Corales "Antonio José"
DESCRIPTION:Ya falta muy poco tiempo para el certamen de Ejea 2023 que en su quincuagésima edición va a tener un formato muy especial\, con la asistencia de varios coros premiados en anteriores ediciones\, un concierto del coro de RTVE y un encuentro de directores de coros a nivel nacional. La calidad de las actuaciones está garantizada y se contará con la afamada directora de coro y orquesta venezolana María Guinand quien\, además de presidir el jurado\, impartirá el canto abierto. FEDARCOR (Federación Aragonesa de Coros) y AEDCORO han querido implicarse en el éxito de esta edición ofreciendo condiciones especiales a sus asociados\, especialmente en las actividades que tendrán lugar el sábado 15 de abril: 10:00 Comienzo del encuentro de directores. 15:00 Salida de Zaragoza del autobús fletado por Fedarcor para los coralistas Federados\, acompañantes y otras personas que quieran unirse (hasta completar las plazas disponibles) 16:00 Comienzo del Canto Abierto con Maria Guinand\, en el que se trabajarán obras de Alberto Grau. 19:00 Primera sesión del festival con la participación fuera de concurso de la Coral Polifónica Ejea y cuatro coros. Si seseas reservar plaza en alguna o todas de estas actividades\, deja tus datos en el formulario que hemos habilitado: 								\n				\n				\n				\n									\n					\n						\n									Formulario de inscripción\n					\n					\n				\n								\n				\n				\n				\n									El autobús\, el acceso al foro de directores y el canto Abierto son gratuitos para los coralistas federados en FEDARCOR y los socios de AEDCORO. Las entradas al certamen (sábado y domingo) son gratuitas si participas en el Canto Abierto o en el Encuentro de directores. Para el resto\, al autobús tiene un coste de 10 euros (no incluye entradas al certamen) y el Encuentro de Directores + Canto Abierto otros 10 (incluye entradas al certamen) El pago puede hacerse online via Stripe o en mano\, a pie de autobús o en el lugar de la actividad. Si pagas online\, asegúrate de que el mail de la inscripción y el del pago coincidan. 								\n				\n				\n				\n									\n					\n						\n									Enlace de pago web FEDARCOR
URL:https://aedcoro.com/evento/xxii-concurso-nacional-de-corales-antonio-jose/
LOCATION:Teatro Principal\, Plaza Mío Cid\, Burgos\, 09003\, Spain
CATEGORIES:Certamen,Congreso
ATTACH;FMTTYPE=image/jpeg:https://aedcoro.com/wp-content/uploads/Poster-taller-de-lectura-de-repertorio-Burgos-2025.jpg
END:VEVENT
END:VCALENDAR