BEGIN:VCALENDAR
VERSION:2.0
PRODID:-//AEDCORO - ECPv6.15.20//NONSGML v1.0//EN
CALSCALE:GREGORIAN
METHOD:PUBLISH
X-ORIGINAL-URL:https://aedcoro.com
X-WR-CALDESC:Eventos para AEDCORO
REFRESH-INTERVAL;VALUE=DURATION:PT1H
X-Robots-Tag:noindex
X-PUBLISHED-TTL:PT1H
BEGIN:VTIMEZONE
TZID:Europe/Madrid
BEGIN:DAYLIGHT
TZOFFSETFROM:+0100
TZOFFSETTO:+0200
TZNAME:CEST
DTSTART:20230326T010000
END:DAYLIGHT
BEGIN:STANDARD
TZOFFSETFROM:+0200
TZOFFSETTO:+0100
TZNAME:CET
DTSTART:20231029T010000
END:STANDARD
BEGIN:DAYLIGHT
TZOFFSETFROM:+0100
TZOFFSETTO:+0200
TZNAME:CEST
DTSTART:20240331T010000
END:DAYLIGHT
BEGIN:STANDARD
TZOFFSETFROM:+0200
TZOFFSETTO:+0100
TZNAME:CET
DTSTART:20241027T010000
END:STANDARD
BEGIN:DAYLIGHT
TZOFFSETFROM:+0100
TZOFFSETTO:+0200
TZNAME:CEST
DTSTART:20250330T010000
END:DAYLIGHT
BEGIN:STANDARD
TZOFFSETFROM:+0200
TZOFFSETTO:+0100
TZNAME:CET
DTSTART:20251026T010000
END:STANDARD
END:VTIMEZONE
BEGIN:VEVENT
DTSTART;VALUE=DATE:20240315
DTEND;VALUE=DATE:20240318
DTSTAMP:20260421T161108
CREATED:20251029T153102Z
LAST-MODIFIED:20260120T115853Z
UID:9617-1710460800-1710719999@aedcoro.com
SUMMARY:Congreso Científico "La mujer en la dirección coral"
DESCRIPTION:Os invitamos a la próxima Jornada de Dirección Coral que se celebrará el próximo 30 de abril (sábado) en en Barakaldo (Bizkaia). Entre otras actividades\, disfrutaremos de una Masterclass con Erik Nielsen (USA) y tendremos un encuentro con los compositores premiados en el Gran Premio BBK. La jornada se podrá seguir tanto de manera presencial como online.								\n				\n				\n		\n				\n				\n									\n					\n						\n									Inscripciones a la jornada\n					\n					\n				\n								\n				\n				\n				\n									\n					\n						\n									Programa de la jornada
URL:https://aedcoro.com/evento/congreso-cientifico-la-mujer-en-la-direccion-coral/
LOCATION:Madrid\, Spain
CATEGORIES:Congreso
ATTACH;FMTTYPE=image/jpeg:https://aedcoro.com/wp-content/uploads/Cartel-congreso-AEDCORO-2024-1.jpeg
END:VEVENT
END:VCALENDAR