BEGIN:VCALENDAR
VERSION:2.0
PRODID:-//AEDCORO - ECPv6.15.20//NONSGML v1.0//EN
CALSCALE:GREGORIAN
METHOD:PUBLISH
X-WR-CALNAME:AEDCORO
X-ORIGINAL-URL:https://aedcoro.com
X-WR-CALDESC:Eventos para AEDCORO
REFRESH-INTERVAL;VALUE=DURATION:PT1H
X-Robots-Tag:noindex
X-PUBLISHED-TTL:PT1H
BEGIN:VTIMEZONE
TZID:Europe/Madrid
BEGIN:DAYLIGHT
TZOFFSETFROM:+0100
TZOFFSETTO:+0200
TZNAME:CEST
DTSTART:20160327T010000
END:DAYLIGHT
BEGIN:STANDARD
TZOFFSETFROM:+0200
TZOFFSETTO:+0100
TZNAME:CET
DTSTART:20161030T010000
END:STANDARD
BEGIN:DAYLIGHT
TZOFFSETFROM:+0100
TZOFFSETTO:+0200
TZNAME:CEST
DTSTART:20170326T010000
END:DAYLIGHT
BEGIN:STANDARD
TZOFFSETFROM:+0200
TZOFFSETTO:+0100
TZNAME:CET
DTSTART:20171029T010000
END:STANDARD
BEGIN:DAYLIGHT
TZOFFSETFROM:+0100
TZOFFSETTO:+0200
TZNAME:CEST
DTSTART:20180325T010000
END:DAYLIGHT
BEGIN:STANDARD
TZOFFSETFROM:+0200
TZOFFSETTO:+0100
TZNAME:CET
DTSTART:20181028T010000
END:STANDARD
BEGIN:DAYLIGHT
TZOFFSETFROM:+0100
TZOFFSETTO:+0200
TZNAME:CEST
DTSTART:20190331T010000
END:DAYLIGHT
BEGIN:STANDARD
TZOFFSETFROM:+0200
TZOFFSETTO:+0100
TZNAME:CET
DTSTART:20191027T010000
END:STANDARD
BEGIN:DAYLIGHT
TZOFFSETFROM:+0100
TZOFFSETTO:+0200
TZNAME:CEST
DTSTART:20200329T010000
END:DAYLIGHT
BEGIN:STANDARD
TZOFFSETFROM:+0200
TZOFFSETTO:+0100
TZNAME:CET
DTSTART:20201025T010000
END:STANDARD
BEGIN:DAYLIGHT
TZOFFSETFROM:+0100
TZOFFSETTO:+0200
TZNAME:CEST
DTSTART:20210328T010000
END:DAYLIGHT
BEGIN:STANDARD
TZOFFSETFROM:+0200
TZOFFSETTO:+0100
TZNAME:CET
DTSTART:20211031T010000
END:STANDARD
END:VTIMEZONE
BEGIN:VEVENT
DTSTART;VALUE=DATE:20201226
DTEND;VALUE=DATE:20201228
DTSTAMP:20260419T210540
CREATED:20251231T124856Z
LAST-MODIFIED:20260120T125603Z
UID:9991-1608940800-1609113599@aedcoro.com
SUMMARY:IV Congreso Nacional de Directores de Coro
DESCRIPTION:Se celebrará en Torrevieja\, del 5 al 7 de noviembre de 2021. El objetivo principal es compartir conocimientos y experiencias entre directores\, compositores y miembros de la comunidad coral española. 								\n				\n		\n				\n				\n									\n					\n						\n						\n							\n									Inscripción\n					\n					\n				\n								\n				\n				\n				\n									\n					\n						\n						\n							\n									Programa de actividades\n					\n					\n				\n								\n				\n				\n				\n					\n				\n		\n				\n				\n					Resumen del evento				\n				\n				\n				\n									El fin de semana del 5 al 7 de noviembre\, la ciudad de Torrevieja ha sido el escenario para la celebración de la Asamblea General 2021 de AEDCORO\, que confirmó el nombramiento de Manuel Cabero como Socio de honor de nuestra asociación. El acto finalizó con una muestra del Coro Maestro Casanovas.  En la mañana del sábado celebramos nuestro primer ‘Atril Abierto’\, en el que 5 socios dieron a conocer sus proyectos a los presentes. Por la tarde asistimos al 26º Certamen Juvenil Internacional de Habaneras\, cuyo jurado estuvo formado por David Pérez\, Ana González y Nuria Fernández\, los tres socios de AEDCORO. El domingo celebramos nuestra Asamblea General 2021 y por la tarde asistimos al concierto a cargo de la Nostrum Mare Camerata
URL:https://aedcoro.com/evento/iv-congreso-nacional-de-directores-de-coro/
LOCATION:Burgos
CATEGORIES:Congreso
ATTACH;FMTTYPE=image/jpeg:https://aedcoro.com/wp-content/uploads/congreso-nacional-aedcoro-2020.jpg
END:VEVENT
BEGIN:VEVENT
DTSTART;VALUE=DATE:20191018
DTEND;VALUE=DATE:20191021
DTSTAMP:20260419T210540
CREATED:20251231T130135Z
LAST-MODIFIED:20251231T130932Z
UID:10020-1571356800-1571615999@aedcoro.com
SUMMARY:III Feria DeCöro 2019
DESCRIPTION:Se celebrará en Torrevieja\, del 5 al 7 de noviembre de 2021. El objetivo principal es compartir conocimientos y experiencias entre directores\, compositores y miembros de la comunidad coral española. 								\n				\n		\n				\n				\n									\n					\n						\n						\n							\n									Inscripción\n					\n					\n				\n								\n				\n				\n				\n									\n					\n						\n						\n							\n									Programa de actividades\n					\n					\n				\n								\n				\n				\n				\n					\n				\n		\n				\n				\n					Resumen del evento				\n				\n				\n				\n									El fin de semana del 5 al 7 de noviembre\, la ciudad de Torrevieja ha sido el escenario para la celebración de la Asamblea General 2021 de AEDCORO\, que confirmó el nombramiento de Manuel Cabero como Socio de honor de nuestra asociación. El acto finalizó con una muestra del Coro Maestro Casanovas.  En la mañana del sábado celebramos nuestro primer ‘Atril Abierto’\, en el que 5 socios dieron a conocer sus proyectos a los presentes. Por la tarde asistimos al 26º Certamen Juvenil Internacional de Habaneras\, cuyo jurado estuvo formado por David Pérez\, Ana González y Nuria Fernández\, los tres socios de AEDCORO. El domingo celebramos nuestra Asamblea General 2021 y por la tarde asistimos al concierto a cargo de la Nostrum Mare Camerata
URL:https://aedcoro.com/evento/iii-feria-decoro-2019/
LOCATION:Forum Evolución\, P.º Sierra de Atapuerca\, Burgos\, 09002\, Spain
CATEGORIES:Congreso
ATTACH;FMTTYPE=image/jpeg:https://aedcoro.com/wp-content/uploads/IMAGEN-CONGRESO-Directores-Coro_2019.jpg
END:VEVENT
BEGIN:VEVENT
DTSTART;VALUE=DATE:20191018
DTEND;VALUE=DATE:20191021
DTSTAMP:20260419T210540
CREATED:20251231T125730Z
LAST-MODIFIED:20251231T131339Z
UID:10015-1571356800-1571615999@aedcoro.com
SUMMARY:III Congreso Nacional de Directores de Coro
DESCRIPTION:Se celebrará en Torrevieja\, del 5 al 7 de noviembre de 2021. El objetivo principal es compartir conocimientos y experiencias entre directores\, compositores y miembros de la comunidad coral española. 								\n				\n		\n				\n				\n									\n					\n						\n						\n							\n									Inscripción\n					\n					\n				\n								\n				\n				\n				\n									\n					\n						\n						\n							\n									Programa de actividades\n					\n					\n				\n								\n				\n				\n				\n					\n				\n		\n				\n				\n					Resumen del evento				\n				\n				\n				\n									El fin de semana del 5 al 7 de noviembre\, la ciudad de Torrevieja ha sido el escenario para la celebración de la Asamblea General 2021 de AEDCORO\, que confirmó el nombramiento de Manuel Cabero como Socio de honor de nuestra asociación. El acto finalizó con una muestra del Coro Maestro Casanovas.  En la mañana del sábado celebramos nuestro primer ‘Atril Abierto’\, en el que 5 socios dieron a conocer sus proyectos a los presentes. Por la tarde asistimos al 26º Certamen Juvenil Internacional de Habaneras\, cuyo jurado estuvo formado por David Pérez\, Ana González y Nuria Fernández\, los tres socios de AEDCORO. El domingo celebramos nuestra Asamblea General 2021 y por la tarde asistimos al concierto a cargo de la Nostrum Mare Camerata
URL:https://aedcoro.com/evento/iii-congreso-nacional-de-directores-de-coro/
LOCATION:Forum Evolución\, P.º Sierra de Atapuerca\, Burgos\, 09002\, Spain
CATEGORIES:Congreso
ATTACH;FMTTYPE=image/jpeg:https://aedcoro.com/wp-content/uploads/IMAGEN-CONGRESO-Directores-Coro_2019.jpg
END:VEVENT
BEGIN:VEVENT
DTSTART;VALUE=DATE:20181019
DTEND;VALUE=DATE:20181022
DTSTAMP:20260419T210540
CREATED:20251231T132646Z
LAST-MODIFIED:20251231T133943Z
UID:10038-1539907200-1540166399@aedcoro.com
SUMMARY:II Congreso Nacional de Directores de Coro
DESCRIPTION:Se celebrará en Torrevieja\, del 5 al 7 de noviembre de 2021. El objetivo principal es compartir conocimientos y experiencias entre directores\, compositores y miembros de la comunidad coral española. 								\n				\n		\n				\n				\n									\n					\n						\n						\n							\n									Inscripción\n					\n					\n				\n								\n				\n				\n				\n									\n					\n						\n						\n							\n									Programa de actividades\n					\n					\n				\n								\n				\n				\n				\n					\n				\n		\n				\n				\n					Resumen del evento				\n				\n				\n				\n									El fin de semana del 5 al 7 de noviembre\, la ciudad de Torrevieja ha sido el escenario para la celebración de la Asamblea General 2021 de AEDCORO\, que confirmó el nombramiento de Manuel Cabero como Socio de honor de nuestra asociación. El acto finalizó con una muestra del Coro Maestro Casanovas.  En la mañana del sábado celebramos nuestro primer ‘Atril Abierto’\, en el que 5 socios dieron a conocer sus proyectos a los presentes. Por la tarde asistimos al 26º Certamen Juvenil Internacional de Habaneras\, cuyo jurado estuvo formado por David Pérez\, Ana González y Nuria Fernández\, los tres socios de AEDCORO. El domingo celebramos nuestra Asamblea General 2021 y por la tarde asistimos al concierto a cargo de la Nostrum Mare Camerata
URL:https://aedcoro.com/evento/ii-congreso-nacional-de-directores-de-coro/
LOCATION:Forum Evolución\, P.º Sierra de Atapuerca\, Burgos\, 09002\, Spain
CATEGORIES:Congreso
ATTACH;FMTTYPE=image/jpeg:https://aedcoro.com/wp-content/uploads/CONGRESO-Directores-Coro-2018.jpg
END:VEVENT
BEGIN:VEVENT
DTSTART;VALUE=DATE:20171013
DTEND;VALUE=DATE:20171016
DTSTAMP:20260419T210540
CREATED:20251231T133508Z
LAST-MODIFIED:20251231T133836Z
UID:10047-1507852800-1508111999@aedcoro.com
SUMMARY:I Congreso Nacional de Directores de Coro
DESCRIPTION:Se celebrará en Torrevieja\, del 5 al 7 de noviembre de 2021. El objetivo principal es compartir conocimientos y experiencias entre directores\, compositores y miembros de la comunidad coral española. 								\n				\n		\n				\n				\n									\n					\n						\n						\n							\n									Inscripción\n					\n					\n				\n								\n				\n				\n				\n									\n					\n						\n						\n							\n									Programa de actividades\n					\n					\n				\n								\n				\n				\n				\n					\n				\n		\n				\n				\n					Resumen del evento				\n				\n				\n				\n									El fin de semana del 5 al 7 de noviembre\, la ciudad de Torrevieja ha sido el escenario para la celebración de la Asamblea General 2021 de AEDCORO\, que confirmó el nombramiento de Manuel Cabero como Socio de honor de nuestra asociación. El acto finalizó con una muestra del Coro Maestro Casanovas.  En la mañana del sábado celebramos nuestro primer ‘Atril Abierto’\, en el que 5 socios dieron a conocer sus proyectos a los presentes. Por la tarde asistimos al 26º Certamen Juvenil Internacional de Habaneras\, cuyo jurado estuvo formado por David Pérez\, Ana González y Nuria Fernández\, los tres socios de AEDCORO. El domingo celebramos nuestra Asamblea General 2021 y por la tarde asistimos al concierto a cargo de la Nostrum Mare Camerata
URL:https://aedcoro.com/evento/i-congreso-nacional-de-directores-de-coro/
LOCATION:Forum Evolución\, P.º Sierra de Atapuerca\, Burgos\, 09002\, Spain
CATEGORIES:Congreso
ATTACH;FMTTYPE=image/jpeg:https://aedcoro.com/wp-content/uploads/Cartel-congreso-aedcoro-compres.jpg
END:VEVENT
END:VCALENDAR